BEGIN:VCALENDAR
VERSION:2.0
PRODID:-//Seattle Credit Union - ECPv6.15.17.1//NONSGML v1.0//EN
CALSCALE:GREGORIAN
METHOD:PUBLISH
X-WR-CALNAME:Seattle Credit Union
X-ORIGINAL-URL:https://www.seattlecu.com
X-WR-CALDESC:Events for Seattle Credit Union
REFRESH-INTERVAL;VALUE=DURATION:PT1H
X-Robots-Tag:noindex
X-PUBLISHED-TTL:PT1H
BEGIN:VTIMEZONE
TZID:America/Los_Angeles
BEGIN:DAYLIGHT
TZOFFSETFROM:-0800
TZOFFSETTO:-0700
TZNAME:PDT
DTSTART:20250309T100000
END:DAYLIGHT
BEGIN:STANDARD
TZOFFSETFROM:-0700
TZOFFSETTO:-0800
TZNAME:PST
DTSTART:20251102T090000
END:STANDARD
BEGIN:DAYLIGHT
TZOFFSETFROM:-0800
TZOFFSETTO:-0700
TZNAME:PDT
DTSTART:20260308T100000
END:DAYLIGHT
BEGIN:STANDARD
TZOFFSETFROM:-0700
TZOFFSETTO:-0800
TZNAME:PST
DTSTART:20261101T090000
END:STANDARD
BEGIN:DAYLIGHT
TZOFFSETFROM:-0800
TZOFFSETTO:-0700
TZNAME:PDT
DTSTART:20270314T100000
END:DAYLIGHT
BEGIN:STANDARD
TZOFFSETFROM:-0700
TZOFFSETTO:-0800
TZNAME:PST
DTSTART:20271107T090000
END:STANDARD
END:VTIMEZONE
BEGIN:VEVENT
DTSTART;TZID=America/Los_Angeles:20260422T173000
DTEND;TZID=America/Los_Angeles:20260422T183000
DTSTAMP:20260422T093955
CREATED:20260122T185224Z
LAST-MODIFIED:20260330T210642Z
UID:12373-1776879000-1776882600@www.seattlecu.com
SUMMARY:Estate planning: The “Four Core Documents”
DESCRIPTION:Seattle Credit Union is proud to offer educational workshops in partnership with the Law Offices of Kate Jones. These sessions are designed to help you better understand estate planning and make informed decisions for your future. In her crash course in estate planning\, Kate will guide you through the “4 core documents” of estate planning and why it’s important to have these in place. \nSpace is limited\, so register today!
URL:https://www.seattlecu.com/event/estate-planning-the-four-core-documents-3/
LOCATION:Burien Branch\, 14901 4th Ave SW Ste 107\, Burien\, 98166\, United States
END:VEVENT
END:VCALENDAR